BEGIN:VCALENDAR
VERSION:2.0
PRODID:-//The Mackintosh Choir - ECPv6.15.20//NONSGML v1.0//EN
CALSCALE:GREGORIAN
METHOD:PUBLISH
X-ORIGINAL-URL:https://mackintoshchoir.com
X-WR-CALDESC:Events for The Mackintosh Choir
REFRESH-INTERVAL;VALUE=DURATION:PT1H
X-Robots-Tag:noindex
X-PUBLISHED-TTL:PT1H
BEGIN:VTIMEZONE
TZID:Europe/London
BEGIN:DAYLIGHT
TZOFFSETFROM:+0000
TZOFFSETTO:+0100
TZNAME:BST
DTSTART:20210328T010000
END:DAYLIGHT
BEGIN:STANDARD
TZOFFSETFROM:+0100
TZOFFSETTO:+0000
TZNAME:GMT
DTSTART:20211031T010000
END:STANDARD
BEGIN:DAYLIGHT
TZOFFSETFROM:+0000
TZOFFSETTO:+0100
TZNAME:BST
DTSTART:20220327T010000
END:DAYLIGHT
BEGIN:STANDARD
TZOFFSETFROM:+0100
TZOFFSETTO:+0000
TZNAME:GMT
DTSTART:20221030T010000
END:STANDARD
BEGIN:DAYLIGHT
TZOFFSETFROM:+0000
TZOFFSETTO:+0100
TZNAME:BST
DTSTART:20230326T010000
END:DAYLIGHT
BEGIN:STANDARD
TZOFFSETFROM:+0100
TZOFFSETTO:+0000
TZNAME:GMT
DTSTART:20231029T010000
END:STANDARD
BEGIN:DAYLIGHT
TZOFFSETFROM:+0000
TZOFFSETTO:+0100
TZNAME:BST
DTSTART:20240331T010000
END:DAYLIGHT
BEGIN:STANDARD
TZOFFSETFROM:+0100
TZOFFSETTO:+0000
TZNAME:GMT
DTSTART:20241027T010000
END:STANDARD
BEGIN:DAYLIGHT
TZOFFSETFROM:+0000
TZOFFSETTO:+0100
TZNAME:BST
DTSTART:20250330T010000
END:DAYLIGHT
BEGIN:STANDARD
TZOFFSETFROM:+0100
TZOFFSETTO:+0000
TZNAME:GMT
DTSTART:20251026T010000
END:STANDARD
END:VTIMEZONE
BEGIN:VEVENT
DTSTART;TZID=Europe/London:20241208T190000
DTEND;TZID=Europe/London:20241208T210000
DTSTAMP:20260423T201257
CREATED:20240621T203801Z
LAST-MODIFIED:20240621T203910Z
UID:1048-1733684400-1733691600@mackintoshchoir.com
SUMMARY:Christmas Concert
DESCRIPTION:
URL:https://mackintoshchoir.com/calendar/christmas-concert-2/
LOCATION:St John’s-Renfield Church\, 22 Beaconsfield Rd\,\, Glasgow\, G12 0NB\, United Kingdom
CATEGORIES:Concert
END:VEVENT
BEGIN:VEVENT
DTSTART;TZID=Europe/London:20240602T190000
DTEND;TZID=Europe/London:20240602T213000
DTSTAMP:20260423T201257
CREATED:20240203T181627Z
LAST-MODIFIED:20240203T183829Z
UID:973-1717354800-1717363800@mackintoshchoir.com
SUMMARY:Tango Mass Concert
DESCRIPTION:
URL:https://mackintoshchoir.com/calendar/tango-mass-concert/
LOCATION:St John’s – Renfield Church Hall\, 22 Beaconsfield Road\, Glasgow\, G12 0NB\, United Kingdom
CATEGORIES:Concert
END:VEVENT
BEGIN:VEVENT
DTSTART;TZID=Europe/London:20221211T190000
DTEND;TZID=Europe/London:20221211T210000
DTSTAMP:20260423T201257
CREATED:20221027T172603Z
LAST-MODIFIED:20221027T172603Z
UID:831-1670785200-1670792400@mackintoshchoir.com
SUMMARY:Christmas Concert
DESCRIPTION:
URL:https://mackintoshchoir.com/calendar/christmas-concert/
LOCATION:St John’s-Renfield Church\, 22 Beaconsfield Rd\,\, Glasgow\, G12 0NB\, United Kingdom
CATEGORIES:Concert
END:VEVENT
END:VCALENDAR