BEGIN:VCALENDAR
VERSION:2.0
PRODID:-//The Mackintosh Choir - ECPv6.15.20//NONSGML v1.0//EN
CALSCALE:GREGORIAN
METHOD:PUBLISH
X-ORIGINAL-URL:https://mackintoshchoir.com
X-WR-CALDESC:Events for The Mackintosh Choir
REFRESH-INTERVAL;VALUE=DURATION:PT1H
X-Robots-Tag:noindex
X-PUBLISHED-TTL:PT1H
BEGIN:VTIMEZONE
TZID:Europe/London
BEGIN:DAYLIGHT
TZOFFSETFROM:+0000
TZOFFSETTO:+0100
TZNAME:BST
DTSTART:20230326T010000
END:DAYLIGHT
BEGIN:STANDARD
TZOFFSETFROM:+0100
TZOFFSETTO:+0000
TZNAME:GMT
DTSTART:20231029T010000
END:STANDARD
BEGIN:DAYLIGHT
TZOFFSETFROM:+0000
TZOFFSETTO:+0100
TZNAME:BST
DTSTART:20240331T010000
END:DAYLIGHT
BEGIN:STANDARD
TZOFFSETFROM:+0100
TZOFFSETTO:+0000
TZNAME:GMT
DTSTART:20241027T010000
END:STANDARD
BEGIN:DAYLIGHT
TZOFFSETFROM:+0000
TZOFFSETTO:+0100
TZNAME:BST
DTSTART:20250330T010000
END:DAYLIGHT
BEGIN:STANDARD
TZOFFSETFROM:+0100
TZOFFSETTO:+0000
TZNAME:GMT
DTSTART:20251026T010000
END:STANDARD
END:VTIMEZONE
BEGIN:VEVENT
DTSTART;TZID=Europe/London:20240131T183000
DTEND;TZID=Europe/London:20240131T203000
DTSTAMP:20260425T184304
CREATED:20240129T175311Z
LAST-MODIFIED:20240204T133106Z
UID:932-1706725800-1706733000@mackintoshchoir.com
SUMMARY:Rehearsal
DESCRIPTION:
URL:https://mackintoshchoir.com/calendar/rehearsal-31/
LOCATION:St John’s – Renfield Church Hall\, 22 Beaconsfield Road\, Glasgow\, G12 0NB\, United Kingdom
CATEGORIES:Rehearsal
END:VEVENT
END:VCALENDAR