BEGIN:VCALENDAR
VERSION:2.0
PRODID:-//The Mackintosh Choir - ECPv6.15.20//NONSGML v1.0//EN
CALSCALE:GREGORIAN
METHOD:PUBLISH
X-WR-CALNAME:The Mackintosh Choir
X-ORIGINAL-URL:https://mackintoshchoir.com
X-WR-CALDESC:Events for The Mackintosh Choir
REFRESH-INTERVAL;VALUE=DURATION:PT1H
X-Robots-Tag:noindex
X-PUBLISHED-TTL:PT1H
BEGIN:VTIMEZONE
TZID:Europe/London
BEGIN:DAYLIGHT
TZOFFSETFROM:+0000
TZOFFSETTO:+0100
TZNAME:BST
DTSTART:20200329T010000
END:DAYLIGHT
BEGIN:STANDARD
TZOFFSETFROM:+0100
TZOFFSETTO:+0000
TZNAME:GMT
DTSTART:20201025T010000
END:STANDARD
BEGIN:DAYLIGHT
TZOFFSETFROM:+0000
TZOFFSETTO:+0100
TZNAME:BST
DTSTART:20210328T010000
END:DAYLIGHT
BEGIN:STANDARD
TZOFFSETFROM:+0100
TZOFFSETTO:+0000
TZNAME:GMT
DTSTART:20211031T010000
END:STANDARD
BEGIN:DAYLIGHT
TZOFFSETFROM:+0000
TZOFFSETTO:+0100
TZNAME:BST
DTSTART:20220327T010000
END:DAYLIGHT
BEGIN:STANDARD
TZOFFSETFROM:+0100
TZOFFSETTO:+0000
TZNAME:GMT
DTSTART:20221030T010000
END:STANDARD
BEGIN:DAYLIGHT
TZOFFSETFROM:+0000
TZOFFSETTO:+0100
TZNAME:BST
DTSTART:20230326T010000
END:DAYLIGHT
BEGIN:STANDARD
TZOFFSETFROM:+0100
TZOFFSETTO:+0000
TZNAME:GMT
DTSTART:20231029T010000
END:STANDARD
BEGIN:DAYLIGHT
TZOFFSETFROM:+0000
TZOFFSETTO:+0100
TZNAME:BST
DTSTART:20240331T010000
END:DAYLIGHT
BEGIN:STANDARD
TZOFFSETFROM:+0100
TZOFFSETTO:+0000
TZNAME:GMT
DTSTART:20241027T010000
END:STANDARD
BEGIN:DAYLIGHT
TZOFFSETFROM:+0000
TZOFFSETTO:+0100
TZNAME:BST
DTSTART:20250330T010000
END:DAYLIGHT
BEGIN:STANDARD
TZOFFSETFROM:+0100
TZOFFSETTO:+0000
TZNAME:GMT
DTSTART:20251026T010000
END:STANDARD
BEGIN:DAYLIGHT
TZOFFSETFROM:+0000
TZOFFSETTO:+0100
TZNAME:BST
DTSTART:20260329T010000
END:DAYLIGHT
BEGIN:STANDARD
TZOFFSETFROM:+0100
TZOFFSETTO:+0000
TZNAME:GMT
DTSTART:20261025T010000
END:STANDARD
END:VTIMEZONE
BEGIN:VEVENT
DTSTART;TZID=Europe/London:20251214T190000
DTEND;TZID=Europe/London:20251214T210000
DTSTAMP:20260424T010816
CREATED:20250617T165002Z
LAST-MODIFIED:20250617T165002Z
UID:1139-1765738800-1765746000@mackintoshchoir.com
SUMMARY:Christmas Concert 2025
DESCRIPTION:
URL:https://mackintoshchoir.com/calendar/christmas-concert-2025/
LOCATION:St John’s-Renfield Church\, 22 Beaconsfield Rd\,\, Glasgow\, G12 0NB\, United Kingdom
END:VEVENT
BEGIN:VEVENT
DTSTART;TZID=Europe/London:20241208T190000
DTEND;TZID=Europe/London:20241208T210000
DTSTAMP:20260424T010816
CREATED:20240621T203801Z
LAST-MODIFIED:20240621T203910Z
UID:1048-1733684400-1733691600@mackintoshchoir.com
SUMMARY:Christmas Concert
DESCRIPTION:
URL:https://mackintoshchoir.com/calendar/christmas-concert-2/
LOCATION:St John’s-Renfield Church\, 22 Beaconsfield Rd\,\, Glasgow\, G12 0NB\, United Kingdom
CATEGORIES:Concert
END:VEVENT
BEGIN:VEVENT
DTSTART;TZID=Europe/London:20240821T183000
DTEND;TZID=Europe/London:20240821T203000
DTSTAMP:20260424T010816
CREATED:20240808T191757Z
LAST-MODIFIED:20240808T191757Z
UID:1071-1724265000-1724272200@mackintoshchoir.com
SUMMARY:Come and Try
DESCRIPTION:
URL:https://mackintoshchoir.com/calendar/come-and-try/
LOCATION:St John’s – Renfield Church Hall\, 22 Beaconsfield Road\, Glasgow\, G12 0NB\, United Kingdom
CATEGORIES:Rehearsal
END:VEVENT
BEGIN:VEVENT
DTSTART;TZID=Europe/London:20240602T190000
DTEND;TZID=Europe/London:20240602T213000
DTSTAMP:20260424T010816
CREATED:20240203T181627Z
LAST-MODIFIED:20240203T183829Z
UID:973-1717354800-1717363800@mackintoshchoir.com
SUMMARY:Tango Mass Concert
DESCRIPTION:
URL:https://mackintoshchoir.com/calendar/tango-mass-concert/
LOCATION:St John’s – Renfield Church Hall\, 22 Beaconsfield Road\, Glasgow\, G12 0NB\, United Kingdom
CATEGORIES:Concert
END:VEVENT
BEGIN:VEVENT
DTSTART;TZID=Europe/London:20240424T183000
DTEND;TZID=Europe/London:20240424T203000
DTSTAMP:20260424T010816
CREATED:20240204T133110Z
LAST-MODIFIED:20240204T133110Z
UID:989-1713983400-1713990600@mackintoshchoir.com
SUMMARY:Rehearsal
DESCRIPTION:
URL:https://mackintoshchoir.com/calendar/rehearsal-42/
CATEGORIES:Rehearsal
END:VEVENT
BEGIN:VEVENT
DTSTART;TZID=Europe/London:20240417T183000
DTEND;TZID=Europe/London:20240417T203000
DTSTAMP:20260424T010816
CREATED:20240204T133109Z
LAST-MODIFIED:20240204T133109Z
UID:988-1713378600-1713385800@mackintoshchoir.com
SUMMARY:Rehearsal
DESCRIPTION:
URL:https://mackintoshchoir.com/calendar/rehearsal-41/
CATEGORIES:Rehearsal
END:VEVENT
BEGIN:VEVENT
DTSTART;TZID=Europe/London:20240410T183000
DTEND;TZID=Europe/London:20240410T203000
DTSTAMP:20260424T010816
CREATED:20240204T133109Z
LAST-MODIFIED:20240204T133109Z
UID:987-1712773800-1712781000@mackintoshchoir.com
SUMMARY:Rehearsal
DESCRIPTION:
URL:https://mackintoshchoir.com/calendar/rehearsal-40/
CATEGORIES:Rehearsal
END:VEVENT
BEGIN:VEVENT
DTSTART;VALUE=DATE:20240403
DTEND;VALUE=DATE:20240404
DTSTAMP:20260424T010816
CREATED:20240204T133108Z
LAST-MODIFIED:20240204T133108Z
UID:986-1712102400-1712188799@mackintoshchoir.com
SUMMARY:Easter Break
DESCRIPTION:
URL:https://mackintoshchoir.com/calendar/easter-break/
END:VEVENT
BEGIN:VEVENT
DTSTART;TZID=Europe/London:20240327T183000
DTEND;TZID=Europe/London:20240327T203000
DTSTAMP:20260424T010816
CREATED:20240204T133108Z
LAST-MODIFIED:20240204T133108Z
UID:985-1711564200-1711571400@mackintoshchoir.com
SUMMARY:Rehearsal
DESCRIPTION:
URL:https://mackintoshchoir.com/calendar/rehearsal-39/
CATEGORIES:Rehearsal
END:VEVENT
BEGIN:VEVENT
DTSTART;TZID=Europe/London:20240320T183000
DTEND;TZID=Europe/London:20240320T203000
DTSTAMP:20260424T010816
CREATED:20240204T133108Z
LAST-MODIFIED:20240204T133108Z
UID:984-1710959400-1710966600@mackintoshchoir.com
SUMMARY:Rehearsal
DESCRIPTION:
URL:https://mackintoshchoir.com/calendar/rehearsal-38/
CATEGORIES:Rehearsal
END:VEVENT
BEGIN:VEVENT
DTSTART;TZID=Europe/London:20240313T183000
DTEND;TZID=Europe/London:20240313T203000
DTSTAMP:20260424T010816
CREATED:20240204T133108Z
LAST-MODIFIED:20240204T133108Z
UID:983-1710354600-1710361800@mackintoshchoir.com
SUMMARY:Rehearsal
DESCRIPTION:
URL:https://mackintoshchoir.com/calendar/rehearsal-37/
CATEGORIES:Rehearsal
END:VEVENT
BEGIN:VEVENT
DTSTART;TZID=Europe/London:20240306T183000
DTEND;TZID=Europe/London:20240306T203000
DTSTAMP:20260424T010816
CREATED:20240204T133108Z
LAST-MODIFIED:20240204T133108Z
UID:982-1709749800-1709757000@mackintoshchoir.com
SUMMARY:Rehearsal
DESCRIPTION:
URL:https://mackintoshchoir.com/calendar/rehearsal-36/
CATEGORIES:Rehearsal
END:VEVENT
BEGIN:VEVENT
DTSTART;TZID=Europe/London:20240228T183000
DTEND;TZID=Europe/London:20240228T203000
DTSTAMP:20260424T010816
CREATED:20240204T133107Z
LAST-MODIFIED:20240204T133107Z
UID:981-1709145000-1709152200@mackintoshchoir.com
SUMMARY:Rehearsal
DESCRIPTION:
URL:https://mackintoshchoir.com/calendar/rehearsal-35/
CATEGORIES:Rehearsal
END:VEVENT
BEGIN:VEVENT
DTSTART;TZID=Europe/London:20240221T183000
DTEND;TZID=Europe/London:20240221T203000
DTSTAMP:20260424T010816
CREATED:20240204T133107Z
LAST-MODIFIED:20240204T133107Z
UID:980-1708540200-1708547400@mackintoshchoir.com
SUMMARY:Rehearsal
DESCRIPTION:
URL:https://mackintoshchoir.com/calendar/rehearsal-34/
CATEGORIES:Rehearsal
END:VEVENT
BEGIN:VEVENT
DTSTART;TZID=Europe/London:20240214T183000
DTEND;TZID=Europe/London:20240214T203000
DTSTAMP:20260424T010816
CREATED:20240203T181129Z
LAST-MODIFIED:20240204T133107Z
UID:971-1707935400-1707942600@mackintoshchoir.com
SUMMARY:Rehearsal
DESCRIPTION:
URL:https://mackintoshchoir.com/calendar/rehearsal-33/
CATEGORIES:Rehearsal
END:VEVENT
BEGIN:VEVENT
DTSTART;TZID=Europe/London:20240207T183000
DTEND;TZID=Europe/London:20240207T203000
DTSTAMP:20260424T010816
CREATED:20240203T180953Z
LAST-MODIFIED:20240204T133107Z
UID:969-1707330600-1707337800@mackintoshchoir.com
SUMMARY:Rehearsal
DESCRIPTION:
URL:https://mackintoshchoir.com/calendar/rehearsal-32/
LOCATION:St John’s – Renfield Church Hall\, 22 Beaconsfield Road\, Glasgow\, G12 0NB\, United Kingdom
CATEGORIES:Rehearsal
END:VEVENT
BEGIN:VEVENT
DTSTART;TZID=Europe/London:20240131T183000
DTEND;TZID=Europe/London:20240131T203000
DTSTAMP:20260424T010816
CREATED:20240129T175311Z
LAST-MODIFIED:20240204T133106Z
UID:932-1706725800-1706733000@mackintoshchoir.com
SUMMARY:Rehearsal
DESCRIPTION:
URL:https://mackintoshchoir.com/calendar/rehearsal-31/
LOCATION:St John’s – Renfield Church Hall\, 22 Beaconsfield Road\, Glasgow\, G12 0NB\, United Kingdom
CATEGORIES:Rehearsal
END:VEVENT
BEGIN:VEVENT
DTSTART;TZID=Europe/London:20221211T190000
DTEND;TZID=Europe/London:20221211T210000
DTSTAMP:20260424T010816
CREATED:20221027T172603Z
LAST-MODIFIED:20221027T172603Z
UID:831-1670785200-1670792400@mackintoshchoir.com
SUMMARY:Christmas Concert
DESCRIPTION:
URL:https://mackintoshchoir.com/calendar/christmas-concert/
LOCATION:St John’s-Renfield Church\, 22 Beaconsfield Rd\,\, Glasgow\, G12 0NB\, United Kingdom
CATEGORIES:Concert
END:VEVENT
BEGIN:VEVENT
DTSTART;TZID=Europe/London:20221026T183000
DTEND;TZID=Europe/London:20221026T203000
DTSTAMP:20260424T010816
CREATED:20221020T161237Z
LAST-MODIFIED:20221020T161410Z
UID:797-1666809000-1666816200@mackintoshchoir.com
SUMMARY:Rehearsal and AGM
DESCRIPTION:
URL:https://mackintoshchoir.com/calendar/rehearsal-and-agm/
END:VEVENT
BEGIN:VEVENT
DTSTART;TZID=Europe/London:20221019T183000
DTEND;TZID=Europe/London:20221019T203000
DTSTAMP:20260424T010816
CREATED:20221019T135559Z
LAST-MODIFIED:20221019T135559Z
UID:787-1666204200-1666211400@mackintoshchoir.com
SUMMARY:Rehearsal
DESCRIPTION:
URL:https://mackintoshchoir.com/calendar/rehearsal-30/
CATEGORIES:Rehearsal
END:VEVENT
BEGIN:VEVENT
DTSTART;TZID=Europe/London:20220316T183000
DTEND;TZID=Europe/London:20220316T200000
DTSTAMP:20260424T010816
CREATED:20220128T233026Z
LAST-MODIFIED:20220128T233026Z
UID:742-1647455400-1647460800@mackintoshchoir.com
SUMMARY:Rehearsal
DESCRIPTION:
URL:https://mackintoshchoir.com/calendar/rehearsal-29/
LOCATION:St John’s – Renfield Church Hall\, 22 Beaconsfield Road\, Glasgow\, G12 0NB\, United Kingdom
CATEGORIES:Rehearsal
END:VEVENT
BEGIN:VEVENT
DTSTART;TZID=Europe/London:20220309T183000
DTEND;TZID=Europe/London:20220309T200000
DTSTAMP:20260424T010816
CREATED:20220128T232905Z
LAST-MODIFIED:20220128T232905Z
UID:740-1646850600-1646856000@mackintoshchoir.com
SUMMARY:Rehearsal
DESCRIPTION:
URL:https://mackintoshchoir.com/calendar/rehearsal-28/
LOCATION:St John’s – Renfield Church Hall\, 22 Beaconsfield Road\, Glasgow\, G12 0NB\, United Kingdom
CATEGORIES:Rehearsal
END:VEVENT
BEGIN:VEVENT
DTSTART;TZID=Europe/London:20220302T183000
DTEND;TZID=Europe/London:20220302T200000
DTSTAMP:20260424T010816
CREATED:20220128T232636Z
LAST-MODIFIED:20220128T232636Z
UID:738-1646245800-1646251200@mackintoshchoir.com
SUMMARY:Rehearsal
DESCRIPTION:
URL:https://mackintoshchoir.com/calendar/rehearsal-27/
LOCATION:St John’s – Renfield Church Hall\, 22 Beaconsfield Road\, Glasgow\, G12 0NB\, United Kingdom
CATEGORIES:Rehearsal
END:VEVENT
BEGIN:VEVENT
DTSTART;TZID=Europe/London:20220223T183000
DTEND;TZID=Europe/London:20220223T200000
DTSTAMP:20260424T010816
CREATED:20220128T232536Z
LAST-MODIFIED:20220128T232703Z
UID:736-1645641000-1645646400@mackintoshchoir.com
SUMMARY:Rehearsaal
DESCRIPTION:
URL:https://mackintoshchoir.com/calendar/rehearsaal/
LOCATION:St John’s – Renfield Church Hall\, 22 Beaconsfield Road\, Glasgow\, G12 0NB\, United Kingdom
CATEGORIES:Rehearsal
END:VEVENT
BEGIN:VEVENT
DTSTART;TZID=Europe/London:20220216T183000
DTEND;TZID=Europe/London:20220216T200000
DTSTAMP:20260424T010816
CREATED:20220128T215230Z
LAST-MODIFIED:20220128T215230Z
UID:728-1645036200-1645041600@mackintoshchoir.com
SUMMARY:Rehearsal
DESCRIPTION:
URL:https://mackintoshchoir.com/calendar/rehearsal-26/
LOCATION:St John’s – Renfield Church Hall\, 22 Beaconsfield Road\, Glasgow\, G12 0NB\, United Kingdom
END:VEVENT
BEGIN:VEVENT
DTSTART;TZID=Europe/London:20220209T183000
DTEND;TZID=Europe/London:20220209T200000
DTSTAMP:20260424T010816
CREATED:20220128T214644Z
LAST-MODIFIED:20220128T214644Z
UID:721-1644431400-1644436800@mackintoshchoir.com
SUMMARY:Rehearsal
DESCRIPTION:
URL:https://mackintoshchoir.com/calendar/rehearsal-25/
LOCATION:St John’s – Renfield Church Hall\, 22 Beaconsfield Road\, Glasgow\, G12 0NB\, United Kingdom
CATEGORIES:Rehearsal
END:VEVENT
BEGIN:VEVENT
DTSTART;TZID=Europe/London:20210630T190000
DTEND;TZID=Europe/London:20210630T203000
DTSTAMP:20260424T010816
CREATED:20210421T203813Z
LAST-MODIFIED:20210421T203813Z
UID:694-1625079600-1625085000@mackintoshchoir.com
SUMMARY:Rehearsal
DESCRIPTION:
URL:https://mackintoshchoir.com/calendar/rehearsal-24/
LOCATION:Online via Zoom
CATEGORIES:Rehearsal
END:VEVENT
BEGIN:VEVENT
DTSTART;TZID=Europe/London:20210623T190000
DTEND;TZID=Europe/London:20210623T203000
DTSTAMP:20260424T010816
CREATED:20210421T203654Z
LAST-MODIFIED:20210421T203654Z
UID:691-1624474800-1624480200@mackintoshchoir.com
SUMMARY:Rehearsal
DESCRIPTION:
URL:https://mackintoshchoir.com/calendar/rehearsal-23/
LOCATION:Online via Zoom
CATEGORIES:Rehearsal
END:VEVENT
BEGIN:VEVENT
DTSTART;TZID=Europe/London:20210616T190000
DTEND;TZID=Europe/London:20210616T203000
DTSTAMP:20260424T010816
CREATED:20210419T100053Z
LAST-MODIFIED:20210419T100053Z
UID:688-1623870000-1623875400@mackintoshchoir.com
SUMMARY:Rehearsal
DESCRIPTION:
URL:https://mackintoshchoir.com/calendar/rehearsal-22/
LOCATION:Online via Zoom
CATEGORIES:Rehearsal
END:VEVENT
BEGIN:VEVENT
DTSTART;TZID=Europe/London:20210609T190000
DTEND;TZID=Europe/London:20210609T203000
DTSTAMP:20260424T010816
CREATED:20210419T100004Z
LAST-MODIFIED:20210419T100004Z
UID:686-1623265200-1623270600@mackintoshchoir.com
SUMMARY:Rehearsal
DESCRIPTION:
URL:https://mackintoshchoir.com/calendar/rehearsal-21/
LOCATION:Online via Zoom
CATEGORIES:Rehearsal
END:VEVENT
END:VCALENDAR