BEGIN:VCALENDAR
VERSION:2.0
PRODID:-//The Mackintosh Choir - ECPv6.15.20//NONSGML v1.0//EN
CALSCALE:GREGORIAN
METHOD:PUBLISH
X-ORIGINAL-URL:https://mackintoshchoir.com
X-WR-CALDESC:Events for The Mackintosh Choir
REFRESH-INTERVAL;VALUE=DURATION:PT1H
X-Robots-Tag:noindex
X-PUBLISHED-TTL:PT1H
BEGIN:VTIMEZONE
TZID:Europe/London
BEGIN:DAYLIGHT
TZOFFSETFROM:+0000
TZOFFSETTO:+0100
TZNAME:BST
DTSTART:20250330T010000
END:DAYLIGHT
BEGIN:STANDARD
TZOFFSETFROM:+0100
TZOFFSETTO:+0000
TZNAME:GMT
DTSTART:20251026T010000
END:STANDARD
BEGIN:DAYLIGHT
TZOFFSETFROM:+0000
TZOFFSETTO:+0100
TZNAME:BST
DTSTART:20260329T010000
END:DAYLIGHT
BEGIN:STANDARD
TZOFFSETFROM:+0100
TZOFFSETTO:+0000
TZNAME:GMT
DTSTART:20261025T010000
END:STANDARD
BEGIN:DAYLIGHT
TZOFFSETFROM:+0000
TZOFFSETTO:+0100
TZNAME:BST
DTSTART:20270328T010000
END:DAYLIGHT
BEGIN:STANDARD
TZOFFSETFROM:+0100
TZOFFSETTO:+0000
TZNAME:GMT
DTSTART:20271031T010000
END:STANDARD
END:VTIMEZONE
BEGIN:VEVENT
DTSTART;TZID=Europe/London:20260329T190000
DTEND;TZID=Europe/London:20260329T210000
DTSTAMP:20260423T215541
CREATED:20250617T165131Z
LAST-MODIFIED:20250617T165131Z
UID:1141-1774810800-1774818000@mackintoshchoir.com
SUMMARY:Spring Concert 2026
DESCRIPTION:
URL:https://mackintoshchoir.com/calendar/spring-concert-2026/
LOCATION:St John’s-Renfield Church\, 22 Beaconsfield Rd\,\, Glasgow\, G12 0NB\, United Kingdom
END:VEVENT
END:VCALENDAR