BEGIN:VCALENDAR
VERSION:2.0
PRODID:-//The Mackintosh Choir - ECPv6.15.20//NONSGML v1.0//EN
CALSCALE:GREGORIAN
METHOD:PUBLISH
X-WR-CALNAME:The Mackintosh Choir
X-ORIGINAL-URL:https://mackintoshchoir.com
X-WR-CALDESC:Events for The Mackintosh Choir
REFRESH-INTERVAL;VALUE=DURATION:PT1H
X-Robots-Tag:noindex
X-PUBLISHED-TTL:PT1H
BEGIN:VTIMEZONE
TZID:Europe/London
BEGIN:DAYLIGHT
TZOFFSETFROM:+0000
TZOFFSETTO:+0100
TZNAME:BST
DTSTART:20190331T010000
END:DAYLIGHT
BEGIN:STANDARD
TZOFFSETFROM:+0100
TZOFFSETTO:+0000
TZNAME:GMT
DTSTART:20191027T010000
END:STANDARD
BEGIN:DAYLIGHT
TZOFFSETFROM:+0000
TZOFFSETTO:+0100
TZNAME:BST
DTSTART:20200329T010000
END:DAYLIGHT
BEGIN:STANDARD
TZOFFSETFROM:+0100
TZOFFSETTO:+0000
TZNAME:GMT
DTSTART:20201025T010000
END:STANDARD
BEGIN:DAYLIGHT
TZOFFSETFROM:+0000
TZOFFSETTO:+0100
TZNAME:BST
DTSTART:20210328T010000
END:DAYLIGHT
BEGIN:STANDARD
TZOFFSETFROM:+0100
TZOFFSETTO:+0000
TZNAME:GMT
DTSTART:20211031T010000
END:STANDARD
BEGIN:DAYLIGHT
TZOFFSETFROM:+0000
TZOFFSETTO:+0100
TZNAME:BST
DTSTART:20220327T010000
END:DAYLIGHT
BEGIN:STANDARD
TZOFFSETFROM:+0100
TZOFFSETTO:+0000
TZNAME:GMT
DTSTART:20221030T010000
END:STANDARD
END:VTIMEZONE
BEGIN:VEVENT
DTSTART;TZID=Europe/London:20210203T190000
DTEND;TZID=Europe/London:20210203T203000
DTSTAMP:20260423T232451
CREATED:20210122T121756Z
LAST-MODIFIED:20210203T172602Z
UID:624-1612378800-1612384200@mackintoshchoir.com
SUMMARY:Choir Social Event  Burns' Supper
DESCRIPTION:
URL:https://mackintoshchoir.com/calendar/rehearsal-5/
LOCATION:Online via Zoom
CATEGORIES:Social Event
END:VEVENT
BEGIN:VEVENT
DTSTART;TZID=Europe/London:20210127T190000
DTEND;TZID=Europe/London:20210127T203000
DTSTAMP:20260423T232451
CREATED:20210103T120152Z
LAST-MODIFIED:20210202T201324Z
UID:619-1611774000-1611779400@mackintoshchoir.com
SUMMARY:Rehearsal
DESCRIPTION:
URL:https://mackintoshchoir.com/calendar/rehearsal-4/
LOCATION:Online via Zoom
CATEGORIES:Rehearsal
END:VEVENT
BEGIN:VEVENT
DTSTART;TZID=Europe/London:20210120T190000
DTEND;TZID=Europe/London:20210120T203000
DTSTAMP:20260423T232451
CREATED:20210103T120103Z
LAST-MODIFIED:20210202T201422Z
UID:617-1611169200-1611174600@mackintoshchoir.com
SUMMARY:Rehearsal
DESCRIPTION:
URL:https://mackintoshchoir.com/calendar/rehearsal-3/
LOCATION:Online via Zoom
CATEGORIES:Rehearsal
END:VEVENT
BEGIN:VEVENT
DTSTART;TZID=Europe/London:20210113T190000
DTEND;TZID=Europe/London:20210113T203000
DTSTAMP:20260423T232451
CREATED:20210103T120016Z
LAST-MODIFIED:20210202T201445Z
UID:615-1610564400-1610569800@mackintoshchoir.com
SUMMARY:Rehearsal
DESCRIPTION:
URL:https://mackintoshchoir.com/calendar/rehearsal-2/
LOCATION:Online via Zoom
CATEGORIES:Rehearsal
END:VEVENT
BEGIN:VEVENT
DTSTART;TZID=Europe/London:20210106T190000
DTEND;TZID=Europe/London:20210106T203000
DTSTAMP:20260423T232451
CREATED:20210103T115239Z
LAST-MODIFIED:20210103T115840Z
UID:609-1609959600-1609965000@mackintoshchoir.com
SUMMARY:Rehearsal
DESCRIPTION:
URL:https://mackintoshchoir.com/calendar/rehearsal/
LOCATION:Online via Zoom
CATEGORIES:Rehearsal
END:VEVENT
BEGIN:VEVENT
DTSTART;TZID=Europe/London:20200722T194500
DTEND;TZID=Europe/London:20200722T203000
DTSTAMP:20260423T232451
CREATED:20200616T195402Z
LAST-MODIFIED:20200616T195402Z
UID:546-1595447100-1595449800@mackintoshchoir.com
SUMMARY:Sectional rehearsal for 1st Sopranos - Online
DESCRIPTION:Sectional rehearsal for 1st Sopranos – Online
URL:https://mackintoshchoir.com/calendar/sectional-rehearsal-for-1st-sopranos-online/
LOCATION:Online
END:VEVENT
BEGIN:VEVENT
DTSTART;TZID=Europe/London:20200722T183000
DTEND;TZID=Europe/London:20200722T193000
DTSTAMP:20260423T232451
CREATED:20200616T194723Z
LAST-MODIFIED:20200616T194723Z
UID:534-1595442600-1595446200@mackintoshchoir.com
SUMMARY:Full Choir Rehearsal – Online
DESCRIPTION:Full Choir Rehearsal – Online
URL:https://mackintoshchoir.com/calendar/full-choir-rehearsal-online-5/
LOCATION:Online
END:VEVENT
BEGIN:VEVENT
DTSTART;TZID=Europe/London:20200715T194500
DTEND;TZID=Europe/London:20200715T203000
DTSTAMP:20260423T232451
CREATED:20200616T195314Z
LAST-MODIFIED:20200616T195314Z
UID:544-1594842300-1594845000@mackintoshchoir.com
SUMMARY:Sectional rehearsal for 2nd Sopranos - Online
DESCRIPTION:Sectional rehearsal for 2nd Sopranos – Online
URL:https://mackintoshchoir.com/calendar/sectional-rehearsal-for-2nd-sopranos-online/
LOCATION:Online
END:VEVENT
BEGIN:VEVENT
DTSTART;TZID=Europe/London:20200715T183000
DTEND;TZID=Europe/London:20200715T193000
DTSTAMP:20260423T232451
CREATED:20200616T194624Z
LAST-MODIFIED:20200616T194624Z
UID:535-1594837800-1594841400@mackintoshchoir.com
SUMMARY:Full Choir Rehearsal – Online
DESCRIPTION:Full Choir Rehearsal – Online
URL:https://mackintoshchoir.com/calendar/full-choir-rehearsal-online-4/
LOCATION:Online
END:VEVENT
BEGIN:VEVENT
DTSTART;TZID=Europe/London:20200708T194500
DTEND;TZID=Europe/London:20200708T203000
DTSTAMP:20260423T232451
CREATED:20200616T195134Z
LAST-MODIFIED:20200616T195134Z
UID:542-1594237500-1594240200@mackintoshchoir.com
SUMMARY:Sectional rehearsal for Altos - Online
DESCRIPTION:Sectional rehearsal for Altos – Online
URL:https://mackintoshchoir.com/calendar/sectional-rehearsal-for-altos-online/
LOCATION:Online
END:VEVENT
BEGIN:VEVENT
DTSTART;TZID=Europe/London:20200708T183000
DTEND;TZID=Europe/London:20200708T193000
DTSTAMP:20260423T232451
CREATED:20200616T194317Z
LAST-MODIFIED:20200616T194657Z
UID:532-1594233000-1594236600@mackintoshchoir.com
SUMMARY:Full Choir Rehearsal - Online
DESCRIPTION:Full Choir Rehearsal – Online
URL:https://mackintoshchoir.com/calendar/full-choir-rehearsal-online-3/
LOCATION:Online
END:VEVENT
BEGIN:VEVENT
DTSTART;TZID=Europe/London:20200701T194500
DTEND;TZID=Europe/London:20200701T203000
DTSTAMP:20260423T232451
CREATED:20200616T195036Z
LAST-MODIFIED:20200616T195036Z
UID:540-1593632700-1593635400@mackintoshchoir.com
SUMMARY:Sectional rehearsal for Tenors - Online
DESCRIPTION:Sectional rehearsal for Tenors – Online
URL:https://mackintoshchoir.com/calendar/sectional-rehearsal-for-tenors-online/
LOCATION:Online
END:VEVENT
BEGIN:VEVENT
DTSTART;TZID=Europe/London:20200701T183000
DTEND;TZID=Europe/London:20200701T193000
DTSTAMP:20260423T232451
CREATED:20200616T194024Z
LAST-MODIFIED:20200616T194024Z
UID:530-1593628200-1593631800@mackintoshchoir.com
SUMMARY:Full Choir Rehearsal - Online
DESCRIPTION:Full Choir Rehearsal – Online
URL:https://mackintoshchoir.com/calendar/full-choir-rehearsal-online-2/
LOCATION:Online
END:VEVENT
BEGIN:VEVENT
DTSTART;TZID=Europe/London:20200624T194500
DTEND;TZID=Europe/London:20200624T203000
DTSTAMP:20260423T232451
CREATED:20200616T194928Z
LAST-MODIFIED:20200616T194928Z
UID:538-1593027900-1593030600@mackintoshchoir.com
SUMMARY:Sectional rehearsal for Basses - Online
DESCRIPTION:Sectional rehearsal for Basses – Online
URL:https://mackintoshchoir.com/calendar/sectional-rehearsal-for-basses-online/
LOCATION:Online
END:VEVENT
BEGIN:VEVENT
DTSTART;TZID=Europe/London:20200624T183000
DTEND;TZID=Europe/London:20200624T193000
DTSTAMP:20260423T232451
CREATED:20200616T193904Z
LAST-MODIFIED:20200616T193904Z
UID:528-1593023400-1593027000@mackintoshchoir.com
SUMMARY:Full Choir Rehearsal - Online
DESCRIPTION:Full Choir Rehearsal – Online
URL:https://mackintoshchoir.com/calendar/full-choir-rehearsal-online/
LOCATION:Online
END:VEVENT
BEGIN:VEVENT
DTSTART;TZID=Europe/London:20200617T190000
DTEND;TZID=Europe/London:20200617T203000
DTSTAMP:20260423T232451
CREATED:20200611T213527Z
LAST-MODIFIED:20200614T151732Z
UID:477-1592420400-1592425800@mackintoshchoir.com
SUMMARY:Soirée for Choir Members - Online
DESCRIPTION:The Soirée for Choir Members is an online event.
URL:https://mackintoshchoir.com/calendar/soiree-for-choir-members/
LOCATION:Online
END:VEVENT
END:VCALENDAR