BEGIN:VCALENDAR
VERSION:2.0
PRODID:-//The Mackintosh Choir - ECPv6.15.20//NONSGML v1.0//EN
CALSCALE:GREGORIAN
METHOD:PUBLISH
X-WR-CALNAME:The Mackintosh Choir
X-ORIGINAL-URL:https://mackintoshchoir.com
X-WR-CALDESC:Events for The Mackintosh Choir
REFRESH-INTERVAL;VALUE=DURATION:PT1H
X-Robots-Tag:noindex
X-PUBLISHED-TTL:PT1H
BEGIN:VTIMEZONE
TZID:Europe/London
BEGIN:DAYLIGHT
TZOFFSETFROM:+0000
TZOFFSETTO:+0100
TZNAME:BST
DTSTART:20190331T010000
END:DAYLIGHT
BEGIN:STANDARD
TZOFFSETFROM:+0100
TZOFFSETTO:+0000
TZNAME:GMT
DTSTART:20191027T010000
END:STANDARD
BEGIN:DAYLIGHT
TZOFFSETFROM:+0000
TZOFFSETTO:+0100
TZNAME:BST
DTSTART:20200329T010000
END:DAYLIGHT
BEGIN:STANDARD
TZOFFSETFROM:+0100
TZOFFSETTO:+0000
TZNAME:GMT
DTSTART:20201025T010000
END:STANDARD
BEGIN:DAYLIGHT
TZOFFSETFROM:+0000
TZOFFSETTO:+0100
TZNAME:BST
DTSTART:20210328T010000
END:DAYLIGHT
BEGIN:STANDARD
TZOFFSETFROM:+0100
TZOFFSETTO:+0000
TZNAME:GMT
DTSTART:20211031T010000
END:STANDARD
END:VTIMEZONE
BEGIN:VEVENT
DTSTART;TZID=Europe/London:20200701T183000
DTEND;TZID=Europe/London:20200701T193000
DTSTAMP:20260424T010626
CREATED:20200616T194024Z
LAST-MODIFIED:20200616T194024Z
UID:530-1593628200-1593631800@mackintoshchoir.com
SUMMARY:Full Choir Rehearsal - Online
DESCRIPTION:Full Choir Rehearsal – Online
URL:https://mackintoshchoir.com/calendar/full-choir-rehearsal-online-2/
LOCATION:Online
END:VEVENT
BEGIN:VEVENT
DTSTART;TZID=Europe/London:20200624T194500
DTEND;TZID=Europe/London:20200624T203000
DTSTAMP:20260424T010626
CREATED:20200616T194928Z
LAST-MODIFIED:20200616T194928Z
UID:538-1593027900-1593030600@mackintoshchoir.com
SUMMARY:Sectional rehearsal for Basses - Online
DESCRIPTION:Sectional rehearsal for Basses – Online
URL:https://mackintoshchoir.com/calendar/sectional-rehearsal-for-basses-online/
LOCATION:Online
END:VEVENT
BEGIN:VEVENT
DTSTART;TZID=Europe/London:20200624T183000
DTEND;TZID=Europe/London:20200624T193000
DTSTAMP:20260424T010626
CREATED:20200616T193904Z
LAST-MODIFIED:20200616T193904Z
UID:528-1593023400-1593027000@mackintoshchoir.com
SUMMARY:Full Choir Rehearsal - Online
DESCRIPTION:Full Choir Rehearsal – Online
URL:https://mackintoshchoir.com/calendar/full-choir-rehearsal-online/
LOCATION:Online
END:VEVENT
BEGIN:VEVENT
DTSTART;TZID=Europe/London:20200617T190000
DTEND;TZID=Europe/London:20200617T203000
DTSTAMP:20260424T010626
CREATED:20200611T213527Z
LAST-MODIFIED:20200614T151732Z
UID:477-1592420400-1592425800@mackintoshchoir.com
SUMMARY:Soirée for Choir Members - Online
DESCRIPTION:The Soirée for Choir Members is an online event.
URL:https://mackintoshchoir.com/calendar/soiree-for-choir-members/
LOCATION:Online
END:VEVENT
END:VCALENDAR